BEGIN:VCALENDAR
VERSION:2.0
PRODID:-//Teknovation.biz - ECPv6.15.20//NONSGML v1.0//EN
CALSCALE:GREGORIAN
METHOD:PUBLISH
X-ORIGINAL-URL:https://www.teknovation.biz
X-WR-CALDESC:Events for Teknovation.biz
REFRESH-INTERVAL;VALUE=DURATION:PT1H
X-Robots-Tag:noindex
X-PUBLISHED-TTL:PT1H
BEGIN:VTIMEZONE
TZID:America/New_York
BEGIN:DAYLIGHT
TZOFFSETFROM:-0500
TZOFFSETTO:-0400
TZNAME:EDT
DTSTART:20240310T070000
END:DAYLIGHT
BEGIN:STANDARD
TZOFFSETFROM:-0400
TZOFFSETTO:-0500
TZNAME:EST
DTSTART:20241103T060000
END:STANDARD
BEGIN:DAYLIGHT
TZOFFSETFROM:-0500
TZOFFSETTO:-0400
TZNAME:EDT
DTSTART:20250309T070000
END:DAYLIGHT
BEGIN:STANDARD
TZOFFSETFROM:-0400
TZOFFSETTO:-0500
TZNAME:EST
DTSTART:20251102T060000
END:STANDARD
BEGIN:DAYLIGHT
TZOFFSETFROM:-0500
TZOFFSETTO:-0400
TZNAME:EDT
DTSTART:20260308T070000
END:DAYLIGHT
BEGIN:STANDARD
TZOFFSETFROM:-0400
TZOFFSETTO:-0500
TZNAME:EST
DTSTART:20261101T060000
END:STANDARD
END:VTIMEZONE
BEGIN:VEVENT
DTSTART;TZID=America/New_York:20251202T090000
DTEND;TZID=America/New_York:20251202T210000
DTSTAMP:20260425T095407
CREATED:20251024T182559Z
LAST-MODIFIED:20251114T161949Z
UID:88915-1764666000-1764709200@www.teknovation.biz
SUMMARY:Hackathon for Non-profits in East Tennessee
DESCRIPTION:9:00 AM – 10:00 AM \nWelcome to the Hackathon! \n\nCoffee\, bagels\, and orientation. Event overview\, ground rules\, prize criteria\, and Definition of Done (demo\, Readme\, owners\, next steps).\n\n\n\n\n10:00 AM – 10:30 AM \nTeam formation and roles \n\nAssign roles: Problem Owner\, Team Lead\, Builders\, Data/Process\, Storyteller.\n\n\n\n\n10:30 AM – 11:30 AM \nDiscovery sprint \n\nMap current process\, users\, data; define success metrics. Output: Problem Framing Canvas.\n\n\n\n\n11:30 AM – 12:00 PM \nSolution sketch & scope \n\nBrainstorm and select a Minimum Lovable Prototype (MLP); define one-page build plan.\n\n\n\n\n12:00 PM – 1:00 PM \nLunch \n\nCatered lunch in the 121 Tech Hub kitchen\n\n\n\n\n1:00 PM – 3:00 PM \nBuild Sprint #1 \n\nDevelop the core workflow; use sample/sanitized data; ident\n\n\n\n\n3:00 PM – 3:15 PM \nBreak \n\nReset and refresh\n\n\n\n\n3:15 PM – 4:30 PM \nBuild Sprint #2 \n\nDevelop features tied to success metrics; stabilize basics.\n\n\n\n\n4:30 PM – 5:00 PM \nUser Checkpoint \n\nNonprofit lead tests prototype; capture top 3 changes.\n\n\n\n\n5:00 PM – 6:00 PM \nBuild Sprint #3 \n\nPolish. Apply feedback\, finalize workflow\, and prepare Readme.\n\n\n\n\n6:00 PM – 7:00 PM \nDinner \n\nCatered dinner in the 121 Tech Hub kitchen\n\n\n\n\n7:00 AM – 7:30 AM \nDemo Prep \n\nRefine presentation: problem\, approach\, demo\, impact\, next steps (1–2 slides).\n\n\n\n\n7:30 PM – 8:00 PM \nHandoff & Setup \n\nFinalize Handoff Packet with links\, instructions\, and owners.\n\n\n\n\n8:00 PM – 9:00 PM \nPresentations & Prizes \n\n5-min demo + 2-min Q&A per team. Judged on usability\, impact\, feasibility\, clarity. Celebrate!
URL:https://www.teknovation.biz/event/hackathon-for-non-profits-in-east-tennessee/
LOCATION:121 Tech Hub\, 121 E Jackson Ave\, Knoxville\, TN 37915
ATTACH;FMTTYPE=image/png:https://www.teknovation.biz/wp-content/uploads/2024/09/121-1.png
END:VEVENT
BEGIN:VEVENT
DTSTART;TZID=America/New_York:20251210T080000
DTEND;TZID=America/New_York:20251210T090000
DTSTAMP:20260425T095407
CREATED:20251201T155910Z
LAST-MODIFIED:20251201T155910Z
UID:90348-1765353600-1765357200@www.teknovation.biz
SUMMARY:Access to Capital for Small Businesses — Helping Small Business Navigate Funding with Confidence
DESCRIPTION:Access to capital is one of the most crucial and often misunderstood aspects of running or growing a small business. Many Tennessee entrepreneurs walk in with strong ideas and real determination\, but they often feel lost when it comes to funding: Which lenders should they approach? What does the SBA actually guarantee? How much cash flow do they need? What documents are required? This workshop is designed to help TSBDC clients and prospective clients cut through the confusion and understand how the capital process truly works. \nSpeaker(s): Stephen W. Williams\, MBA\, Director of TSBDC at Roane State Community College
URL:https://www.teknovation.biz/event/access-to-capital-for-small-businesses-helping-small-business-navigate-funding-with-confidence/
LOCATION:Oak Ridge Chamber of Commerce\, 1400 Oak Ridge Turnpike\, Oak Ridge\, Tennessee\, 37830\, United States
ATTACH;FMTTYPE=image/jpeg:https://www.teknovation.biz/wp-content/uploads/2025/10/TSBDC_Hero-copy.jpg
END:VEVENT
BEGIN:VEVENT
DTSTART;TZID=America/New_York:20251211T180000
DTEND;TZID=America/New_York:20251211T200000
DTSTAMP:20260425T095407
CREATED:20251103T173303Z
LAST-MODIFIED:20251114T161938Z
UID:89152-1765476000-1765483200@www.teknovation.biz
SUMMARY:Nashville Investors and Innovators
DESCRIPTION:​Black Dog Venture Partners VC Fast Pitch and The Emerging Managers Podcast invite you to Investors and Innovators in Nashville! \n​​Connecting and networking with private equity firms\, family offices\, VCs\, angel investors and top innovators. \n​​Date: Thursday\, December 11\, 2025 6pm-9pm. \n​Location: Nashville Entrepreneur Center\, 41 Peabody St\, Nashville\, TN 37210 RSVP at https://lu.ma/y7sttzmj \n​​Enjoy drinks and hors d’oeuvres in a relaxed environment with top emerging investors and innovators. \n​Questions? Send email scott@blackdogvp.com
URL:https://www.teknovation.biz/event/nashville-investors-and-innovators/
LOCATION:Nashville Entrepreneur Center\, 41 Peabody St\, Nashville\, TN 37210
ATTACH;FMTTYPE=image/jpeg:https://www.teknovation.biz/wp-content/uploads/2025/01/NEC-Outlook-LONG.jpg
END:VEVENT
END:VCALENDAR