BEGIN:VCALENDAR
VERSION:2.0
PRODID:-//Teknovation.biz - ECPv6.15.20//NONSGML v1.0//EN
CALSCALE:GREGORIAN
METHOD:PUBLISH
X-ORIGINAL-URL:https://www.teknovation.biz
X-WR-CALDESC:Events for Teknovation.biz
REFRESH-INTERVAL;VALUE=DURATION:PT1H
X-Robots-Tag:noindex
X-PUBLISHED-TTL:PT1H
BEGIN:VTIMEZONE
TZID:America/New_York
BEGIN:DAYLIGHT
TZOFFSETFROM:-0500
TZOFFSETTO:-0400
TZNAME:EDT
DTSTART:20250309T070000
END:DAYLIGHT
BEGIN:STANDARD
TZOFFSETFROM:-0400
TZOFFSETTO:-0500
TZNAME:EST
DTSTART:20251102T060000
END:STANDARD
BEGIN:DAYLIGHT
TZOFFSETFROM:-0500
TZOFFSETTO:-0400
TZNAME:EDT
DTSTART:20260308T070000
END:DAYLIGHT
BEGIN:STANDARD
TZOFFSETFROM:-0400
TZOFFSETTO:-0500
TZNAME:EST
DTSTART:20261101T060000
END:STANDARD
BEGIN:DAYLIGHT
TZOFFSETFROM:-0500
TZOFFSETTO:-0400
TZNAME:EDT
DTSTART:20270314T070000
END:DAYLIGHT
BEGIN:STANDARD
TZOFFSETFROM:-0400
TZOFFSETTO:-0500
TZNAME:EST
DTSTART:20271107T060000
END:STANDARD
END:VTIMEZONE
BEGIN:VEVENT
DTSTART;TZID=America/New_York:20260521T130000
DTEND;TZID=America/New_York:20260521T180000
DTSTAMP:20260425T065722
CREATED:20260302T183038Z
LAST-MODIFIED:20260302T183038Z
UID:93092-1779368400-1779386400@www.teknovation.biz
SUMMARY:Nashville Entrepreneur Day: Spring 2026
DESCRIPTION:Last year\, 1000+ investors\, advisors\, and business leaders showed up to Nashville Entrepreneur Day. They didn’t come for inspiration. They came to meet companies with actual traction. Don’t miss your chance.
URL:https://www.teknovation.biz/event/nashville-entrepreneur-day-spring-2026/
LOCATION:Geodis Park\, 501 Benton Avenue\, Nashville\, 37203
ATTACH;FMTTYPE=image/png:https://www.teknovation.biz/wp-content/uploads/2025/05/KTECH-500-x-500-px-2.png
END:VEVENT
END:VCALENDAR