BEGIN:VCALENDAR
VERSION:2.0
PRODID:-//Teknovation.biz - ECPv6.15.20//NONSGML v1.0//EN
CALSCALE:GREGORIAN
METHOD:PUBLISH
X-WR-CALNAME:Teknovation.biz
X-ORIGINAL-URL:https://www.teknovation.biz
X-WR-CALDESC:Events for Teknovation.biz
REFRESH-INTERVAL;VALUE=DURATION:PT1H
X-Robots-Tag:noindex
X-PUBLISHED-TTL:PT1H
BEGIN:VTIMEZONE
TZID:America/New_York
BEGIN:DAYLIGHT
TZOFFSETFROM:-0500
TZOFFSETTO:-0400
TZNAME:EDT
DTSTART:20250309T070000
END:DAYLIGHT
BEGIN:STANDARD
TZOFFSETFROM:-0400
TZOFFSETTO:-0500
TZNAME:EST
DTSTART:20251102T060000
END:STANDARD
BEGIN:DAYLIGHT
TZOFFSETFROM:-0500
TZOFFSETTO:-0400
TZNAME:EDT
DTSTART:20260308T070000
END:DAYLIGHT
BEGIN:STANDARD
TZOFFSETFROM:-0400
TZOFFSETTO:-0500
TZNAME:EST
DTSTART:20261101T060000
END:STANDARD
BEGIN:DAYLIGHT
TZOFFSETFROM:-0500
TZOFFSETTO:-0400
TZNAME:EDT
DTSTART:20270314T070000
END:DAYLIGHT
BEGIN:STANDARD
TZOFFSETFROM:-0400
TZOFFSETTO:-0500
TZNAME:EST
DTSTART:20271107T060000
END:STANDARD
END:VTIMEZONE
BEGIN:VEVENT
DTSTART;VALUE=DATE:20260519
DTEND;VALUE=DATE:20260520
DTSTAMP:20260425T065415
CREATED:20260326T134759Z
LAST-MODIFIED:20260326T134759Z
UID:93897-1779148800-1779235199@www.teknovation.biz
SUMMARY:From Lab to Market: Accelerating AI Innovation
DESCRIPTION:Please join us for a statewide event designed to accelerate the transition of artificial intelligence research into real-world deployment\, commercialization\, and job creation across Tennessee.  Hosted by AI Tennessee’s Industry Innovation Consortium\, AI TechX\, and supported by Launch TN’s Tennessee Technology Advancement Consortium (TTAC)\, the convening will bring together industry leaders\, startups\, faculty researchers\, government\, and other relevant stakeholders to align applied AI Innovation with market and societal needs.  The event will feature curated programming focused on applied AI use cases\, research-to-commercialization pathways\, startup and talent showcases\, and facilitated conversations around industry-academic collaboration.
URL:https://www.teknovation.biz/event/from-lab-to-market-accelerating-ai-innovation/
LOCATION:Ashraf Islam Engineering Building\, 200 West 10th Street\, Cookeville\, TN\, 38501\, United States
ATTACH;FMTTYPE=image/jpeg:https://www.teknovation.biz/wp-content/uploads/2026/03/TTU-Ashraf-Islam-Web-3-2.jpg
END:VEVENT
END:VCALENDAR