BEGIN:VCALENDAR
VERSION:2.0
PRODID:-//Teknovation.biz - ECPv6.15.20//NONSGML v1.0//EN
CALSCALE:GREGORIAN
METHOD:PUBLISH
X-WR-CALNAME:Teknovation.biz
X-ORIGINAL-URL:https://www.teknovation.biz
X-WR-CALDESC:Events for Teknovation.biz
REFRESH-INTERVAL;VALUE=DURATION:PT1H
X-Robots-Tag:noindex
X-PUBLISHED-TTL:PT1H
BEGIN:VTIMEZONE
TZID:America/New_York
BEGIN:DAYLIGHT
TZOFFSETFROM:-0500
TZOFFSETTO:-0400
TZNAME:EDT
DTSTART:20250309T070000
END:DAYLIGHT
BEGIN:STANDARD
TZOFFSETFROM:-0400
TZOFFSETTO:-0500
TZNAME:EST
DTSTART:20251102T060000
END:STANDARD
BEGIN:DAYLIGHT
TZOFFSETFROM:-0500
TZOFFSETTO:-0400
TZNAME:EDT
DTSTART:20260308T070000
END:DAYLIGHT
BEGIN:STANDARD
TZOFFSETFROM:-0400
TZOFFSETTO:-0500
TZNAME:EST
DTSTART:20261101T060000
END:STANDARD
BEGIN:DAYLIGHT
TZOFFSETFROM:-0500
TZOFFSETTO:-0400
TZNAME:EDT
DTSTART:20270314T070000
END:DAYLIGHT
BEGIN:STANDARD
TZOFFSETFROM:-0400
TZOFFSETTO:-0500
TZNAME:EST
DTSTART:20271107T060000
END:STANDARD
END:VTIMEZONE
BEGIN:VEVENT
DTSTART;TZID=America/New_York:20260505T173000
DTEND;TZID=America/New_York:20260505T193000
DTSTAMP:20260425T081259
CREATED:20260420T201915Z
LAST-MODIFIED:20260420T202007Z
UID:94582-1778002200-1778009400@www.teknovation.biz
SUMMARY:KEC Mentor Network Mingle
DESCRIPTION:Join us on Tuesday\, May 5th for a KEC Mentor Network Mingle at Ricky’s Bar!  \nWe’re bringing together our KEC Mentors and founders that are actively participating in or interested in getting connected to the KEC Mentor Network. This is the perfect opportunity to connect and network with other founders\, ask our KEC Mentors questions\, and find out more information about resources and programs that KEC offers. \nWe hope to see you there! \nAbout Ricky’s: \nRicky’s is a new bar brought to you by the owners of Tern Club and Fly By Night. Located at 1520 Washington Avenue\, Ricky’s has plenty of parking\, and a food truck out back. \nRegister now.
URL:https://www.teknovation.biz/event/kec-mentor-network-mingle/
ATTACH;FMTTYPE=image/jpeg:https://www.teknovation.biz/wp-content/uploads/2026/04/hbryzfna7ttgzyveigtj.jpg
END:VEVENT
END:VCALENDAR