BEGIN:VCALENDAR
VERSION:2.0
PRODID:-//Teknovation.biz - ECPv6.15.20//NONSGML v1.0//EN
CALSCALE:GREGORIAN
METHOD:PUBLISH
X-WR-CALNAME:Teknovation.biz
X-ORIGINAL-URL:https://www.teknovation.biz
X-WR-CALDESC:Events for Teknovation.biz
REFRESH-INTERVAL;VALUE=DURATION:PT1H
X-Robots-Tag:noindex
X-PUBLISHED-TTL:PT1H
BEGIN:VTIMEZONE
TZID:America/New_York
BEGIN:DAYLIGHT
TZOFFSETFROM:-0500
TZOFFSETTO:-0400
TZNAME:EDT
DTSTART:20250309T070000
END:DAYLIGHT
BEGIN:STANDARD
TZOFFSETFROM:-0400
TZOFFSETTO:-0500
TZNAME:EST
DTSTART:20251102T060000
END:STANDARD
BEGIN:DAYLIGHT
TZOFFSETFROM:-0500
TZOFFSETTO:-0400
TZNAME:EDT
DTSTART:20260308T070000
END:DAYLIGHT
BEGIN:STANDARD
TZOFFSETFROM:-0400
TZOFFSETTO:-0500
TZNAME:EST
DTSTART:20261101T060000
END:STANDARD
BEGIN:DAYLIGHT
TZOFFSETFROM:-0500
TZOFFSETTO:-0400
TZNAME:EDT
DTSTART:20270314T070000
END:DAYLIGHT
BEGIN:STANDARD
TZOFFSETFROM:-0400
TZOFFSETTO:-0500
TZNAME:EST
DTSTART:20271107T060000
END:STANDARD
END:VTIMEZONE
BEGIN:VEVENT
DTSTART;TZID=America/New_York:20260428T090000
DTEND;TZID=America/New_York:20260428T103000
DTSTAMP:20260425T065415
CREATED:20260407T130433Z
LAST-MODIFIED:20260407T130433Z
UID:94259-1777366800-1777372200@www.teknovation.biz
SUMMARY:Unlocking Entrepreneurship: A Workshop on Franchising\, Funding\, and Fit
DESCRIPTION:Thinking about starting a business but daunted by the idea of building from scratch? Or perhaps you’re a current business owner looking to diversify your portfolio or stack additional revenue streams? This interactive workshop breaks down the franchise model and helps you determine if investing in a proven system is a better fit for your goals than trying to launch a traditional startup. \nWe’ll start by exploring the realities of franchising beyond the fast-food stereotypes—covering funding\, industry types\, and business models. Then\, we will transition into a hands-on workshop where you will take an entrepreneurial assessment to identify your unique business and leadership profile\, with a discussion around how the results point to the types of businesses where you would thrive. \nWhat to Bring: \n\nA laptop or tablet (Required to take the assessment during the session)\nAn open mind about business models and industries that you may never have considered before!\n\nYou’ll Learn How To: \n\nCompare the pros and cons of “DIY” entrepreneurship vs. the Franchise model\nEvaluate the different types of franchise industries\, including which ones are AI- and recession-resistant\nNavigate funding options and investment requirements\nInterpret your personal business profile from the entrepreneurial assessment\nIdentify which business environments match your specific skills\, personality\, values\, and work style\n\nWho Should Attend? \n\nEntrepreneurial-minded individuals who want to start a business but aren’t sure where to begin\nInvestors who want to diversify their existing portfolio with a scalable business\nCorporate types who are tired of the rat race and want to take control over their time and income\nIndividuals who have recently been laid off and want to explore alternatives to another job\nCareer transitioners who are eager to find something meaningful in their next chapter of business\n\nMeet the Speaker:  \n \nAbout Brett: \nBrett started his first business while in graduate school with the goal of being financially independent by the time he started a family. He succeeded\, growing that business to seven figures in annual sales and generating a passive income stream that freed him up to launch a cutting edge business in the EdTech space in 2010. Coming out of Corporate America to achieve success in different types of businesses across varying industries\, Brett understands the needs of a diverse clientele and uses his skills to help match them with the perfect franchise for leaving a lasting legacy. Brett has a MA (International Finance) from the University of Denver and a BA (Public Policy) from Duke University. He lives on a small farm in east Tennessee with his wife\, four kids\, dog\, cat\, horses\, and chickens. \nAbout Legacy Franchise Solutions:\nLegacy Franchise Solutions is a full-service franchise consulting firm committed to empowering corporate refugees and would-be entrepreneurs find their next right thing. We believe that business ownership is the most viable way to leave a lasting legacy for your family and loved ones\, and we relish the opportunity to come alongside our clients and help them find businesses where they will thrive\, coaching them through every step of the franchise award process. Our commitment is to help you achieve Freedom today\, Wealth tomorrow\, and Legacy forever! \nWhether you are looking to start your first business or add to your empire\, this workshop is relevant for all experience levels. \nWalk away with a clear understanding of your entrepreneurial profile and a roadmap for your next business move. \nThe KEC Office will open at 8:30 AM with a light breakfast provided. The workshop will start promptly at 9 AM. Spots are limited\, so please RSVP today! \n\n\n\nLocation\nKnoxville Entrepreneur Center\, 37902
URL:https://www.teknovation.biz/event/unlocking-entrepreneurship-a-workshop-on-franchising-funding-and-fit/
LOCATION:Knoxville Entrepreneur Center\, 17 Market Square
ATTACH;FMTTYPE=image/jpeg:https://www.teknovation.biz/wp-content/uploads/2026/04/fcqicnaususdnzey4qn1.jpg
END:VEVENT
END:VCALENDAR