BEGIN:VCALENDAR
VERSION:2.0
PRODID:-//Teknovation.biz - ECPv6.15.20//NONSGML v1.0//EN
CALSCALE:GREGORIAN
METHOD:PUBLISH
X-WR-CALNAME:Teknovation.biz
X-ORIGINAL-URL:https://www.teknovation.biz
X-WR-CALDESC:Events for Teknovation.biz
REFRESH-INTERVAL;VALUE=DURATION:PT1H
X-Robots-Tag:noindex
X-PUBLISHED-TTL:PT1H
BEGIN:VTIMEZONE
TZID:America/New_York
BEGIN:DAYLIGHT
TZOFFSETFROM:-0500
TZOFFSETTO:-0400
TZNAME:EDT
DTSTART:20250309T070000
END:DAYLIGHT
BEGIN:STANDARD
TZOFFSETFROM:-0400
TZOFFSETTO:-0500
TZNAME:EST
DTSTART:20251102T060000
END:STANDARD
BEGIN:DAYLIGHT
TZOFFSETFROM:-0500
TZOFFSETTO:-0400
TZNAME:EDT
DTSTART:20260308T070000
END:DAYLIGHT
BEGIN:STANDARD
TZOFFSETFROM:-0400
TZOFFSETTO:-0500
TZNAME:EST
DTSTART:20261101T060000
END:STANDARD
BEGIN:DAYLIGHT
TZOFFSETFROM:-0500
TZOFFSETTO:-0400
TZNAME:EDT
DTSTART:20270314T070000
END:DAYLIGHT
BEGIN:STANDARD
TZOFFSETFROM:-0400
TZOFFSETTO:-0500
TZNAME:EST
DTSTART:20271107T060000
END:STANDARD
END:VTIMEZONE
BEGIN:VEVENT
DTSTART;VALUE=DATE:20260423
DTEND;VALUE=DATE:20260424
DTSTAMP:20260425T065425
CREATED:20260312T213950Z
LAST-MODIFIED:20260312T213950Z
UID:93515-1776902400-1776988799@www.teknovation.biz
SUMMARY:AI Summit @ The Square Room
DESCRIPTION:AI goes to WORK! A t-shirt-friendly summit focused on real-world AI applications and implications inside real businesses. \n\n\n\n\nMore Signal\, Less Noise is a t-shirt-friendly summit focused on real-world AI applications and implications inside real businesses.\nLet’s get real\, folks. We’ve all seen and heard the AI hype. We’ve all scrolled past the “it’s not just ___\, it’s a ____ movement and this will change your life forever” LinkedIn posts\, and read the doomsday “This will be like Terminator but actually worse” manifestos. Maybe you’ve written some of them yourself. But inside real organizations\, from the factory floor to the C-suite\, the questions around AI are remarkably similar: \n\nWhat should we actually do?\nWhat should we ignore?\nWhat happens when this hits real operations?\nWhat exactly is “AI” and why should we care?\n\nWhat You’ll Experience:\nReal-word use cases\, conversations and Q&A from our region’s most successful companies\, including: Red Stag I Bush Brothers I Clayton Homes I Avero Advisors I Pet Safe I Ancient Lore Village\nIntellectual Property\, Privacy\, and Security in the age of AI\, a live legal professionals panel hosted by Haseeb Qureshi\, founder of ForthLaw \nOpening Keynote: “More Signal\, Less Noise” from life-long entrepreneur\, community leader and Fighting Shape Impact Co. Founder Chris McAdoo \nClosing Remarks and Big Predictions from Marcus Blair\, event creator and founder\, CoreIQ \nHappy Hour to follow. Lets keep the conversation going. \nWhen & Where\nDate: April 23\, 2026 \nTime: 1:00 PM (doors open) – 6:00 PM \nLocation: The Square Room 4 Market Square\, Knoxville\, Tennessee \nThe Square Room offers an intimate\, central downtown location designed for real conversation – not auditorium distance. Expect an engaged room\, not a passive audience. \nTickets\nGeneral Admission: $30 plus applicable fees(Includes full program + post-event happy hour) Space is intentionally limited to keep the room conversational and high-signal. \nWho Should Attend\nIf you are accountable for results (not just headlines)\, this room is for you. \nYour Hosts \nMarcus Blair\nFounder\, CoreIQ \nChris McAdoo\nEMCEE & Founder\, Fighting Shape Impact Company \nFull Speaker list to be announced soon!\nInterested in supporting or partnering? Supporters will be aligned with: \n\nEnterprise and mid-market decision-makers\nOperators actively deploying AI at scale\nA room focused on implementation\, NOT spectacle\n\nContact: Marcus Blair\nmarcus@omegadigital.us\n865.214.7686
URL:https://www.teknovation.biz/event/ai-summit-the-square-room/
LOCATION:The Square Room\, 4 Market Square\, Knoxville
ATTACH;FMTTYPE=image/webp:https://www.teknovation.biz/wp-content/uploads/2026/03/image-4.webp
END:VEVENT
END:VCALENDAR