BEGIN:VCALENDAR
VERSION:2.0
PRODID:-//Teknovation.biz - ECPv6.15.20//NONSGML v1.0//EN
CALSCALE:GREGORIAN
METHOD:PUBLISH
X-ORIGINAL-URL:https://www.teknovation.biz
X-WR-CALDESC:Events for Teknovation.biz
REFRESH-INTERVAL;VALUE=DURATION:PT1H
X-Robots-Tag:noindex
X-PUBLISHED-TTL:PT1H
BEGIN:VTIMEZONE
TZID:America/New_York
BEGIN:DAYLIGHT
TZOFFSETFROM:-0500
TZOFFSETTO:-0400
TZNAME:EDT
DTSTART:20250309T070000
END:DAYLIGHT
BEGIN:STANDARD
TZOFFSETFROM:-0400
TZOFFSETTO:-0500
TZNAME:EST
DTSTART:20251102T060000
END:STANDARD
BEGIN:DAYLIGHT
TZOFFSETFROM:-0500
TZOFFSETTO:-0400
TZNAME:EDT
DTSTART:20260308T070000
END:DAYLIGHT
BEGIN:STANDARD
TZOFFSETFROM:-0400
TZOFFSETTO:-0500
TZNAME:EST
DTSTART:20261101T060000
END:STANDARD
BEGIN:DAYLIGHT
TZOFFSETFROM:-0500
TZOFFSETTO:-0400
TZNAME:EDT
DTSTART:20270314T070000
END:DAYLIGHT
BEGIN:STANDARD
TZOFFSETFROM:-0400
TZOFFSETTO:-0500
TZNAME:EST
DTSTART:20271107T060000
END:STANDARD
END:VTIMEZONE
BEGIN:VEVENT
DTSTART;TZID=America/New_York:20260402T083000
DTEND;TZID=America/New_York:20260402T093000
DTSTAMP:20260425T065547
CREATED:20260323T185640Z
LAST-MODIFIED:20260323T185640Z
UID:93766-1775118600-1775122200@www.teknovation.biz
SUMMARY:Morning Momentum
DESCRIPTION:Morning Momentum is a monthly series designed to connect seasoned business leaders & entrepreneurs experiencing growth challenges. \n\n\n\n\nThis monthly series will take place the first Thursday at 8:30 AM at Maple Hall. It’s designed to help small business owners tackle growth-related challenges by presenting real issues to seasoned business leaders for immediate feedback. \nThis month’s presenters are seeking input on how to strengthen their business development strategy \, from building partnerships to identifying new revenue opportunities. As an attendee\, you’ll hear from two entrepreneurs facing real growth hurdles and be invited to offer actionable ideas to help them move forward. \nMorning Momentum is a space to foster mentorship\, spark new thinking\, and accelerate business growth. \nIf you\, or someone you know could benefit from presenting at Morning Momentum\, apply here! \n*Light breakfast and coffee will be served. \n*We recommend parking in Market Square Garage and walking over.
URL:https://www.teknovation.biz/event/morning-momentum-2/
LOCATION:Maple Hall\, 414 South Gay Street\, Knoxville\, TN\, 37902
ATTACH;FMTTYPE=image/jpeg:https://www.teknovation.biz/wp-content/uploads/2026/01/https___cdn.evbuc_.com_images_1172179162_146802618001_1_original.jpeg
END:VEVENT
END:VCALENDAR