BEGIN:VCALENDAR
VERSION:2.0
PRODID:-//Teknovation.biz - ECPv6.15.20//NONSGML v1.0//EN
CALSCALE:GREGORIAN
METHOD:PUBLISH
X-WR-CALNAME:Teknovation.biz
X-ORIGINAL-URL:https://www.teknovation.biz
X-WR-CALDESC:Events for Teknovation.biz
REFRESH-INTERVAL;VALUE=DURATION:PT1H
X-Robots-Tag:noindex
X-PUBLISHED-TTL:PT1H
BEGIN:VTIMEZONE
TZID:America/New_York
BEGIN:DAYLIGHT
TZOFFSETFROM:-0500
TZOFFSETTO:-0400
TZNAME:EDT
DTSTART:20250309T070000
END:DAYLIGHT
BEGIN:STANDARD
TZOFFSETFROM:-0400
TZOFFSETTO:-0500
TZNAME:EST
DTSTART:20251102T060000
END:STANDARD
BEGIN:DAYLIGHT
TZOFFSETFROM:-0500
TZOFFSETTO:-0400
TZNAME:EDT
DTSTART:20260308T070000
END:DAYLIGHT
BEGIN:STANDARD
TZOFFSETFROM:-0400
TZOFFSETTO:-0500
TZNAME:EST
DTSTART:20261101T060000
END:STANDARD
BEGIN:DAYLIGHT
TZOFFSETFROM:-0500
TZOFFSETTO:-0400
TZNAME:EDT
DTSTART:20270314T070000
END:DAYLIGHT
BEGIN:STANDARD
TZOFFSETFROM:-0400
TZOFFSETTO:-0500
TZNAME:EST
DTSTART:20271107T060000
END:STANDARD
END:VTIMEZONE
BEGIN:VEVENT
DTSTART;TZID=America/New_York:20260401T083000
DTEND;TZID=America/New_York:20260401T093000
DTSTAMP:20260425T065426
CREATED:20260317T144744Z
LAST-MODIFIED:20260317T144753Z
UID:93614-1775032200-1775035800@www.teknovation.biz
SUMMARY:Advance Knox: New Zoning Map
DESCRIPTION:Join local government officials and planners as they reveal the zoning map that will dictate development in Knox County for years to come. The map is among the final stages of the new Unified Development Ordinance\, which will rewrite the county’s zoning\, building and fire codes\, subdivision and stormwater regulations\, landscaping\, signs and street standards. \nPlanners will be seeking final comment before the draft is presented to the Knoxville/Knox County Planning Commission. \nWork on the UDO began last fall as part of the Advance Knox process to update the county’s comprehensive land use plan for the first time in decades. To learn more\, including prior presentations\, at www.advanceknox.com. \nLight Refreshments will be served. \n*We validate parking in Market Square Garage.
URL:https://www.teknovation.biz/event/advance-knox-new-zoning-map/
LOCATION:Knoxville Chamber\, 17 Market Square\, Knoxville
ATTACH;FMTTYPE=image/webp:https://www.teknovation.biz/wp-content/uploads/2026/03/image-5.webp
END:VEVENT
END:VCALENDAR