BEGIN:VCALENDAR
VERSION:2.0
PRODID:-//Teknovation.biz - ECPv6.15.20//NONSGML v1.0//EN
CALSCALE:GREGORIAN
METHOD:PUBLISH
X-ORIGINAL-URL:https://www.teknovation.biz
X-WR-CALDESC:Events for Teknovation.biz
REFRESH-INTERVAL;VALUE=DURATION:PT1H
X-Robots-Tag:noindex
X-PUBLISHED-TTL:PT1H
BEGIN:VTIMEZONE
TZID:America/New_York
BEGIN:DAYLIGHT
TZOFFSETFROM:-0500
TZOFFSETTO:-0400
TZNAME:EDT
DTSTART:20250309T070000
END:DAYLIGHT
BEGIN:STANDARD
TZOFFSETFROM:-0400
TZOFFSETTO:-0500
TZNAME:EST
DTSTART:20251102T060000
END:STANDARD
BEGIN:DAYLIGHT
TZOFFSETFROM:-0500
TZOFFSETTO:-0400
TZNAME:EDT
DTSTART:20260308T070000
END:DAYLIGHT
BEGIN:STANDARD
TZOFFSETFROM:-0400
TZOFFSETTO:-0500
TZNAME:EST
DTSTART:20261101T060000
END:STANDARD
BEGIN:DAYLIGHT
TZOFFSETFROM:-0500
TZOFFSETTO:-0400
TZNAME:EDT
DTSTART:20270314T070000
END:DAYLIGHT
BEGIN:STANDARD
TZOFFSETFROM:-0400
TZOFFSETTO:-0500
TZNAME:EST
DTSTART:20271107T060000
END:STANDARD
END:VTIMEZONE
BEGIN:VEVENT
DTSTART;VALUE=DATE:20260324
DTEND;VALUE=DATE:20260325
DTSTAMP:20260425T081552
CREATED:20260312T212334Z
LAST-MODIFIED:20260312T212412Z
UID:93501-1774310400-1774396799@www.teknovation.biz
SUMMARY:Belmont Entrepreneur Awards
DESCRIPTION:This event honors the success of alumni-founded businesses while recognizing Belmont’s Top 100 Founders for their impact in the innovation space.
URL:https://www.teknovation.biz/event/belmont-entrepreneur-awards/
LOCATION:Fisher Center for the Performing Arts
ATTACH;FMTTYPE=image/jpeg:https://www.teknovation.biz/wp-content/uploads/2025/03/Belmont-Cone-Center-LONG.jpg
END:VEVENT
BEGIN:VEVENT
DTSTART;TZID=America/New_York:20260324T140000
DTEND;TZID=America/New_York:20260324T150000
DTSTAMP:20260425T081552
CREATED:20260304T153254Z
LAST-MODIFIED:20260304T153254Z
UID:93233-1774360800-1774364400@www.teknovation.biz
SUMMARY:Knoxville Spring Housing Update
DESCRIPTION:Join the Knoxville Chamber as Maria McHale\, Government Affairs Director for East Tennessee REALTORS®\, shares the 2026 Housing Market Forecast and reviews the first few months of the year.
URL:https://www.teknovation.biz/event/knoxville-spring-housing-update/
LOCATION:East Tennessee Realtors\, 609 North Weisgarber Road\, Knoxville\, TN\, 37919\, United States
ATTACH;FMTTYPE=image/webp:https://www.teknovation.biz/wp-content/uploads/2026/03/image.webp
END:VEVENT
BEGIN:VEVENT
DTSTART;TZID=America/New_York:20260324T160000
DTEND;TZID=America/New_York:20260324T180000
DTSTAMP:20260425T081552
CREATED:20260312T175738Z
LAST-MODIFIED:20260312T175738Z
UID:93493-1774368000-1774375200@www.teknovation.biz
SUMMARY:Capital Conversations Tri-Cities
DESCRIPTION:Learn about InvestTN\, funding opportunities + more \nWe’re back on the road to share key info on funding\, investment opportunities\, and how to tap into resources right in your community at our upcoming Capital Conversations events. \nNext stops:  \n\nTri-Cities on March 24 – RSVP
URL:https://www.teknovation.biz/event/capital-conversations-tri-cities/
LOCATION:Southern Craft BBQ\, 601 Spring St #101\, Johnson City\, TN\, 37604\, United States
ATTACH;FMTTYPE=image/png:https://www.teknovation.biz/wp-content/uploads/2025/01/Launch-Tennessee-LONG-.png
END:VEVENT
BEGIN:VEVENT
DTSTART;TZID=America/New_York:20260324T170000
DTEND;TZID=America/New_York:20260324T183000
DTSTAMP:20260425T081552
CREATED:20260306T153110Z
LAST-MODIFIED:20260306T153110Z
UID:93307-1774371600-1774377000@www.teknovation.biz
SUMMARY:Food Business Incubator Info Session
DESCRIPTION:Ready to turn your food business idea into a viable\, sustainable operation? Learn about the Food Business Incubator Program. \n\n\n\n\nAre you an early-stage food entrepreneur looking to formalize your business\, strengthen your business model\, and access hands-on support? \nJoin us for this required info session to learn about the Real Good Kitchen Foundation’s Food Business Incubator Program—a comprehensive program designed to support food entrepreneurs as they move from idea to operation\, or from informal to formal business. \nWhat You’ll Learn\nDuring this session\, we’ll walk through: \n\nAn overview of the Food Business Incubator Program and what participants can expect\nEligibility requirements and selection criteria\nThe application process\, timeline\, and tips for submitting a strong application\nThe basics of a feasibility study\, including what is required for the application\n(A feasiblity template and resources will be provided)\nLive Q&A with program staff\n\nAbout the Incubator Program\nThe Food Business Incubator Program combines: \n\nClassroom instruction on food business fundamentals\nHands-on kitchen instruction and technical assistance\nSupport using the shared commercial kitchen at Real Good Kitchen\n\nThe program is designed to help early-stage food entrepreneurs build the skills\, knowledge\, and confidence needed to operate a successful food business. \nWho Should Attend\nThis session is ideal for: \n\nEarly-stage food business owners\nAspiring food entrepreneurs with a clear concept\n\nImportant Information\n\nThis is the final Info session for this year’s Incubator Cohort. Attendance at this session is required to apply for the Food Business Incubator Program\nThe Incubator Program will only be offered once in 2026\nApplications will be due in May\nThis session is free to attend\, but registration is required\n\nReserve your spot to learn whether the Food Business Incubator Program is the right next step for your food business. \n\n\n\nRead less
URL:https://www.teknovation.biz/event/food-business-incubator-info-session/
LOCATION:Pellissippi State Community College: Magnolia Avenue Campus\, 1610 East Magnolia Avenue\, Knoxville\, TN\, 37917\, United States
ATTACH;FMTTYPE=image/png:https://www.teknovation.biz/wp-content/uploads/2026/03/Real-Good-Kitchen-2.png
END:VEVENT
END:VCALENDAR