BEGIN:VCALENDAR
VERSION:2.0
PRODID:-//Teknovation.biz - ECPv6.15.20//NONSGML v1.0//EN
CALSCALE:GREGORIAN
METHOD:PUBLISH
X-ORIGINAL-URL:https://www.teknovation.biz
X-WR-CALDESC:Events for Teknovation.biz
REFRESH-INTERVAL;VALUE=DURATION:PT1H
X-Robots-Tag:noindex
X-PUBLISHED-TTL:PT1H
BEGIN:VTIMEZONE
TZID:America/New_York
BEGIN:DAYLIGHT
TZOFFSETFROM:-0500
TZOFFSETTO:-0400
TZNAME:EDT
DTSTART:20250309T070000
END:DAYLIGHT
BEGIN:STANDARD
TZOFFSETFROM:-0400
TZOFFSETTO:-0500
TZNAME:EST
DTSTART:20251102T060000
END:STANDARD
BEGIN:DAYLIGHT
TZOFFSETFROM:-0500
TZOFFSETTO:-0400
TZNAME:EDT
DTSTART:20260308T070000
END:DAYLIGHT
BEGIN:STANDARD
TZOFFSETFROM:-0400
TZOFFSETTO:-0500
TZNAME:EST
DTSTART:20261101T060000
END:STANDARD
BEGIN:DAYLIGHT
TZOFFSETFROM:-0500
TZOFFSETTO:-0400
TZNAME:EDT
DTSTART:20270314T070000
END:DAYLIGHT
BEGIN:STANDARD
TZOFFSETFROM:-0400
TZOFFSETTO:-0500
TZNAME:EST
DTSTART:20271107T060000
END:STANDARD
END:VTIMEZONE
BEGIN:VEVENT
DTSTART;VALUE=DATE:20260313
DTEND;VALUE=DATE:20260316
DTSTAMP:20260425T123448
CREATED:20260302T184529Z
LAST-MODIFIED:20260302T184529Z
UID:93110-1773360000-1773619199@www.teknovation.biz
SUMMARY:Tennessee Housse at SXSW
DESCRIPTION:Returning to SXSW 2026\, the Tennessee House showcases what’s happening in tech and homegrown innovation across the Volunteer State. Meet the creative minds and makers who are powering Tennessee’s startup ecosystem and crafting the future\, and enjoy bless-your-heart hospitality infused with local flair. \nFriday\nWe’re kicking 2026 off by celebrating all things Tennessee! Share your Tennessee connection to enter our Opening Night VIP celebration\, show your Tennessee school pride\, and catch up with our House mascot Rocky the Raccoon. Plus\, raise a glass of Tennessee whiskey\, and enjoy some iconic snacks from the Volunteer State. \nSaturday\nNooga in the morning\, Nash at night. Chatt & chill with game-changing startups in quantum and mobility – then add a dash of hot chicken heat as we dive into the sweet spot where innovation meets creativity… Plus\, make this a SXSW Saturday night to never forget with Hip Hop Karaoke and a late-night line dancing party for Dolly Parton’s 80th birthday. \nSunday\nStart your morning out East with a dynamic look at what’s new in nuclear\, and get to know some of Knoxville’s next-gen companies shaping the future. Then\, grab your blue suede shoes\, head due west\, and dive into the Digital Delta! Meet Memphis to uncover why Bluff City is drawing game-changing data centers and innovative startups.
URL:https://www.teknovation.biz/event/tennessee-housse-at-sxsw/
ATTACH;FMTTYPE=image/png:https://www.teknovation.biz/wp-content/uploads/2026/02/SXSW_2026_header.png
END:VEVENT
END:VCALENDAR