BEGIN:VCALENDAR
VERSION:2.0
PRODID:-//Teknovation.biz - ECPv6.15.20//NONSGML v1.0//EN
CALSCALE:GREGORIAN
METHOD:PUBLISH
X-ORIGINAL-URL:https://www.teknovation.biz
X-WR-CALDESC:Events for Teknovation.biz
REFRESH-INTERVAL;VALUE=DURATION:PT1H
X-Robots-Tag:noindex
X-PUBLISHED-TTL:PT1H
BEGIN:VTIMEZONE
TZID:America/New_York
BEGIN:DAYLIGHT
TZOFFSETFROM:-0500
TZOFFSETTO:-0400
TZNAME:EDT
DTSTART:20250309T070000
END:DAYLIGHT
BEGIN:STANDARD
TZOFFSETFROM:-0400
TZOFFSETTO:-0500
TZNAME:EST
DTSTART:20251102T060000
END:STANDARD
BEGIN:DAYLIGHT
TZOFFSETFROM:-0500
TZOFFSETTO:-0400
TZNAME:EDT
DTSTART:20260308T070000
END:DAYLIGHT
BEGIN:STANDARD
TZOFFSETFROM:-0400
TZOFFSETTO:-0500
TZNAME:EST
DTSTART:20261101T060000
END:STANDARD
BEGIN:DAYLIGHT
TZOFFSETFROM:-0500
TZOFFSETTO:-0400
TZNAME:EDT
DTSTART:20270314T070000
END:DAYLIGHT
BEGIN:STANDARD
TZOFFSETFROM:-0400
TZOFFSETTO:-0500
TZNAME:EST
DTSTART:20271107T060000
END:STANDARD
END:VTIMEZONE
BEGIN:VEVENT
DTSTART;VALUE=DATE:20260302
DTEND;VALUE=DATE:20260306
DTSTAMP:20260425T065548
CREATED:20260226T210903Z
LAST-MODIFIED:20260226T210903Z
UID:93011-1772409600-1772755199@www.teknovation.biz
SUMMARY:MARCON Conference
DESCRIPTION:MARCON (Maintenance and Reliability Conference) is an annual conference hosted by the University of Tennessee’s Reliability and Maintainability Center (RMC). It brings together industry leaders\, professionals\, and academics to share best practices in maintenance\, reliability\, and asset management. \nYou’ll explore proven methodologies\, learn how to diagnose and prevent failures\, and get hands-on experience with techniques you can apply as soon as you return to your facility. From planning and scheduling to predictive technologies\, asset management\, and continuous improvement\, our workshops are designed to meet you where you are—and help you level up.
URL:https://www.teknovation.biz/event/marcon-conference/
LOCATION:Knoxville Convention Center
ATTACH;FMTTYPE=image/jpeg:https://www.teknovation.biz/wp-content/uploads/2026/01/knoxville-convention-center.jpeg
END:VEVENT
BEGIN:VEVENT
DTSTART;TZID=America/New_York:20260304T083000
DTEND;TZID=America/New_York:20260304T093000
DTSTAMP:20260425T065548
CREATED:20260219T163521Z
LAST-MODIFIED:20260219T163557Z
UID:92825-1772613000-1772616600@www.teknovation.biz
SUMMARY:Morning Momentum Knoxville Chamber
DESCRIPTION:This monthly series takes place every first Wednesday at 8:30 AM at Maple Hall. It’s designed to help small business owners tackle growth-related challenges by presenting real issues to seasoned business leaders for immediate feedback. This month’s presenters are seeking input on how to strengthen their business development strategy\, from building partnerships to identifying new revenue opportunities. As an attendee\, you’ll hear from two entrepreneurs facing real growth hurdles and be invited to offer actionable ideas to help them move forward.
URL:https://www.teknovation.biz/event/morning-momentum-knoxville-chamber/
LOCATION:Maple Hall\, 414 South Gay Street\, Knoxville\, TN\, 37902
ATTACH;FMTTYPE=image/jpeg:https://www.teknovation.biz/wp-content/uploads/2025/09/IMG_8885-2.jpg
END:VEVENT
END:VCALENDAR