BEGIN:VCALENDAR
VERSION:2.0
PRODID:-//Teknovation.biz - ECPv6.15.20//NONSGML v1.0//EN
CALSCALE:GREGORIAN
METHOD:PUBLISH
X-WR-CALNAME:Teknovation.biz
X-ORIGINAL-URL:https://www.teknovation.biz
X-WR-CALDESC:Events for Teknovation.biz
REFRESH-INTERVAL;VALUE=DURATION:PT1H
X-Robots-Tag:noindex
X-PUBLISHED-TTL:PT1H
BEGIN:VTIMEZONE
TZID:America/New_York
BEGIN:DAYLIGHT
TZOFFSETFROM:-0500
TZOFFSETTO:-0400
TZNAME:EDT
DTSTART:20250309T070000
END:DAYLIGHT
BEGIN:STANDARD
TZOFFSETFROM:-0400
TZOFFSETTO:-0500
TZNAME:EST
DTSTART:20251102T060000
END:STANDARD
BEGIN:DAYLIGHT
TZOFFSETFROM:-0500
TZOFFSETTO:-0400
TZNAME:EDT
DTSTART:20260308T070000
END:DAYLIGHT
BEGIN:STANDARD
TZOFFSETFROM:-0400
TZOFFSETTO:-0500
TZNAME:EST
DTSTART:20261101T060000
END:STANDARD
BEGIN:DAYLIGHT
TZOFFSETFROM:-0500
TZOFFSETTO:-0400
TZNAME:EDT
DTSTART:20270314T070000
END:DAYLIGHT
BEGIN:STANDARD
TZOFFSETFROM:-0400
TZOFFSETTO:-0500
TZNAME:EST
DTSTART:20271107T060000
END:STANDARD
END:VTIMEZONE
BEGIN:VEVENT
DTSTART;TZID=America/New_York:20260227T080000
DTEND;TZID=America/New_York:20260227T090000
DTSTAMP:20260425T065425
CREATED:20260112T194338Z
LAST-MODIFIED:20260112T194338Z
UID:92207-1772179200-1772182800@www.teknovation.biz
SUMMARY:Capitol Connections - Knoxville
DESCRIPTION:Join the Knoxville Chamber for Capitol Connections with Tennessee General Assembly Representatives. Learn what’s happening on the Hill during a discussion with representatives from Congress. They will share their priorities for 2026 and current business issues within our community.
URL:https://www.teknovation.biz/event/capitol-connections-knoxville/
LOCATION:Knoxville Chamber\, 17 Market Square
ATTACH;FMTTYPE=image/jpeg:https://www.teknovation.biz/wp-content/uploads/2023/10/Teknovation-city-of-knoxivlle-chamber.jpg
END:VEVENT
END:VCALENDAR