BEGIN:VCALENDAR
VERSION:2.0
PRODID:-//Teknovation.biz - ECPv6.15.20//NONSGML v1.0//EN
CALSCALE:GREGORIAN
METHOD:PUBLISH
X-WR-CALNAME:Teknovation.biz
X-ORIGINAL-URL:https://www.teknovation.biz
X-WR-CALDESC:Events for Teknovation.biz
REFRESH-INTERVAL;VALUE=DURATION:PT1H
X-Robots-Tag:noindex
X-PUBLISHED-TTL:PT1H
BEGIN:VTIMEZONE
TZID:America/New_York
BEGIN:DAYLIGHT
TZOFFSETFROM:-0500
TZOFFSETTO:-0400
TZNAME:EDT
DTSTART:20250309T070000
END:DAYLIGHT
BEGIN:STANDARD
TZOFFSETFROM:-0400
TZOFFSETTO:-0500
TZNAME:EST
DTSTART:20251102T060000
END:STANDARD
BEGIN:DAYLIGHT
TZOFFSETFROM:-0500
TZOFFSETTO:-0400
TZNAME:EDT
DTSTART:20260308T070000
END:DAYLIGHT
BEGIN:STANDARD
TZOFFSETFROM:-0400
TZOFFSETTO:-0500
TZNAME:EST
DTSTART:20261101T060000
END:STANDARD
BEGIN:DAYLIGHT
TZOFFSETFROM:-0500
TZOFFSETTO:-0400
TZNAME:EDT
DTSTART:20270314T070000
END:DAYLIGHT
BEGIN:STANDARD
TZOFFSETFROM:-0400
TZOFFSETTO:-0500
TZNAME:EST
DTSTART:20271107T060000
END:STANDARD
END:VTIMEZONE
BEGIN:VEVENT
DTSTART;TZID=America/New_York:20260210T153000
DTEND;TZID=America/New_York:20260210T170000
DTSTAMP:20260425T082252
CREATED:20260203T153749Z
LAST-MODIFIED:20260203T153749Z
UID:92568-1770737400-1770742800@www.teknovation.biz
SUMMARY:Life Science Venture Program Education Series
DESCRIPTION:This session will be led by members of the Avantor team and will walk through key considerations for startups building or expanding lab space — including lab layout and design\, equipment and furniture selection\, budgeting and timelines\, and common pitfalls to avoid when setting up an early-stage lab.\n👉 Registration & event details: Eventbrite Registration
URL:https://www.teknovation.biz/event/life-science-venture-program-education-series/
LOCATION:UTK Center for Precision Health
END:VEVENT
BEGIN:VEVENT
DTSTART;TZID=America/New_York:20260210T170000
DTEND;TZID=America/New_York:20260210T190000
DTSTAMP:20260425T082252
CREATED:20260203T154016Z
LAST-MODIFIED:20260203T154016Z
UID:92571-1770742800-1770750000@www.teknovation.biz
SUMMARY:Beer & Biotech Knoxville Meetup
DESCRIPTION:Join Life Science TN members and life science professionals for a Beer & Biotech networking reception \n\n\n\n\nJoin Life Science Tennessee in Knoxville at Calhoun’s On The River for a Beer & Biotech industry networking opportunity. Enjoy a complimentary drink and light bites while meeting researchers\, postdocs\, entrepreneurs\, and representatives from East Tennessee’s growing biotech landscape. It’s a great opportunity to discover exciting local innovations\, build meaningful relationships\, and spark new business opportunities. \nThe Beer & Biotech will immediately follow the Life Science Venture Program’s monthly educational series. February’s session will cover how to build your lab as a life science startup with Avantor. Those wishing to attend the LSVP session can learn more and register here.
URL:https://www.teknovation.biz/event/beer-biotech-knoxville-meetup/
LOCATION:Calhoun’s on the River
ATTACH;FMTTYPE=image/webp:https://www.teknovation.biz/wp-content/uploads/2026/02/image-1.webp
END:VEVENT
END:VCALENDAR