BEGIN:VCALENDAR
VERSION:2.0
PRODID:-//Teknovation.biz - ECPv6.15.20//NONSGML v1.0//EN
CALSCALE:GREGORIAN
METHOD:PUBLISH
X-ORIGINAL-URL:https://www.teknovation.biz
X-WR-CALDESC:Events for Teknovation.biz
REFRESH-INTERVAL;VALUE=DURATION:PT1H
X-Robots-Tag:noindex
X-PUBLISHED-TTL:PT1H
BEGIN:VTIMEZONE
TZID:America/New_York
BEGIN:DAYLIGHT
TZOFFSETFROM:-0500
TZOFFSETTO:-0400
TZNAME:EDT
DTSTART:20250309T070000
END:DAYLIGHT
BEGIN:STANDARD
TZOFFSETFROM:-0400
TZOFFSETTO:-0500
TZNAME:EST
DTSTART:20251102T060000
END:STANDARD
BEGIN:DAYLIGHT
TZOFFSETFROM:-0500
TZOFFSETTO:-0400
TZNAME:EDT
DTSTART:20260308T070000
END:DAYLIGHT
BEGIN:STANDARD
TZOFFSETFROM:-0400
TZOFFSETTO:-0500
TZNAME:EST
DTSTART:20261101T060000
END:STANDARD
BEGIN:DAYLIGHT
TZOFFSETFROM:-0500
TZOFFSETTO:-0400
TZNAME:EDT
DTSTART:20270314T070000
END:DAYLIGHT
BEGIN:STANDARD
TZOFFSETFROM:-0400
TZOFFSETTO:-0500
TZNAME:EST
DTSTART:20271107T060000
END:STANDARD
END:VTIMEZONE
BEGIN:VEVENT
DTSTART;TZID=America/New_York:20260204T083000
DTEND;TZID=America/New_York:20260204T093000
DTSTAMP:20260425T082320
CREATED:20260112T193759Z
LAST-MODIFIED:20260112T193759Z
UID:92198-1770193800-1770197400@www.teknovation.biz
SUMMARY:Morning Momentum: Developing and Promoting Your Business
DESCRIPTION:Morning Momentum is the Knoxville Chamber’s monthly series designed to connect seasoned business leaders & entrepreneurs experiencing growth challenges. It returns for 2026!
URL:https://www.teknovation.biz/event/morning-momentum-developing-and-promoting-your-business/
LOCATION:Maple Hall\, 414 South Gay Street\, Knoxville\, TN\, 37902
ATTACH;FMTTYPE=image/jpeg:https://www.teknovation.biz/wp-content/uploads/2026/01/https___cdn.evbuc_.com_images_1172179162_146802618001_1_original.jpeg
END:VEVENT
END:VCALENDAR