BEGIN:VCALENDAR
VERSION:2.0
PRODID:-//Teknovation.biz - ECPv6.15.20//NONSGML v1.0//EN
CALSCALE:GREGORIAN
METHOD:PUBLISH
X-WR-CALNAME:Teknovation.biz
X-ORIGINAL-URL:https://www.teknovation.biz
X-WR-CALDESC:Events for Teknovation.biz
REFRESH-INTERVAL;VALUE=DURATION:PT1H
X-Robots-Tag:noindex
X-PUBLISHED-TTL:PT1H
BEGIN:VTIMEZONE
TZID:America/New_York
BEGIN:DAYLIGHT
TZOFFSETFROM:-0500
TZOFFSETTO:-0400
TZNAME:EDT
DTSTART:20250309T070000
END:DAYLIGHT
BEGIN:STANDARD
TZOFFSETFROM:-0400
TZOFFSETTO:-0500
TZNAME:EST
DTSTART:20251102T060000
END:STANDARD
BEGIN:DAYLIGHT
TZOFFSETFROM:-0500
TZOFFSETTO:-0400
TZNAME:EDT
DTSTART:20260308T070000
END:DAYLIGHT
BEGIN:STANDARD
TZOFFSETFROM:-0400
TZOFFSETTO:-0500
TZNAME:EST
DTSTART:20261101T060000
END:STANDARD
BEGIN:DAYLIGHT
TZOFFSETFROM:-0500
TZOFFSETTO:-0400
TZNAME:EDT
DTSTART:20270314T070000
END:DAYLIGHT
BEGIN:STANDARD
TZOFFSETFROM:-0400
TZOFFSETTO:-0500
TZNAME:EST
DTSTART:20271107T060000
END:STANDARD
END:VTIMEZONE
BEGIN:VEVENT
DTSTART;VALUE=DATE:20260130
DTEND;VALUE=DATE:20260202
DTSTAMP:20260425T082129
CREATED:20260125T225310Z
LAST-MODIFIED:20260125T225310Z
UID:92454-1769731200-1769990399@www.teknovation.biz
SUMMARY:Maker City Summit
DESCRIPTION:For a whole decade\, makers\, dreamers\, and doers have been coming together at The Maker City Summit to build businesses\, spark ideas\, and cheer each other on. And this year\, we’re celebrating 10 years of Making Space: space for creativity\, for community\, and for the next big thing. \nThrough speakers\, workshops\, panel discussions\, and networking opportunities\, you’ll learn how to scale your business\, attract customers\, and build a sustainable brand. \n\n\n\n\n\n\n\n\nNo matter if you’ve been at this for years or you’re just dipping your toes in\, there’s a seat saved for you. Our lineup’s as diverse as the makers themselves — from painters to potters\, brewers to bakers\, performers to fabricators. Whether you’re a part-time hobbyist or a full-time entrepreneur\, this is where you’ll learn\, be inspired\, and connect with folks who get what it means to build something from scratch and pour your heart into it.
URL:https://www.teknovation.biz/event/maker-city-summit/
LOCATION:Maker Exchange in World’s Fair Park at the Marriott Knoxville & Tennessean Hotels
ATTACH;FMTTYPE=image/jpeg:https://www.teknovation.biz/wp-content/uploads/2023/11/The-Maker-City-LONG.jpg
END:VEVENT
END:VCALENDAR