BEGIN:VCALENDAR
VERSION:2.0
PRODID:-//Teknovation.biz - ECPv6.15.20//NONSGML v1.0//EN
CALSCALE:GREGORIAN
METHOD:PUBLISH
X-WR-CALNAME:Teknovation.biz
X-ORIGINAL-URL:https://www.teknovation.biz
X-WR-CALDESC:Events for Teknovation.biz
REFRESH-INTERVAL;VALUE=DURATION:PT1H
X-Robots-Tag:noindex
X-PUBLISHED-TTL:PT1H
BEGIN:VTIMEZONE
TZID:America/New_York
BEGIN:DAYLIGHT
TZOFFSETFROM:-0500
TZOFFSETTO:-0400
TZNAME:EDT
DTSTART:20250309T070000
END:DAYLIGHT
BEGIN:STANDARD
TZOFFSETFROM:-0400
TZOFFSETTO:-0500
TZNAME:EST
DTSTART:20251102T060000
END:STANDARD
BEGIN:DAYLIGHT
TZOFFSETFROM:-0500
TZOFFSETTO:-0400
TZNAME:EDT
DTSTART:20260308T070000
END:DAYLIGHT
BEGIN:STANDARD
TZOFFSETFROM:-0400
TZOFFSETTO:-0500
TZNAME:EST
DTSTART:20261101T060000
END:STANDARD
BEGIN:DAYLIGHT
TZOFFSETFROM:-0500
TZOFFSETTO:-0400
TZNAME:EDT
DTSTART:20270314T070000
END:DAYLIGHT
BEGIN:STANDARD
TZOFFSETFROM:-0400
TZOFFSETTO:-0500
TZNAME:EST
DTSTART:20271107T060000
END:STANDARD
END:VTIMEZONE
BEGIN:VEVENT
DTSTART;TZID=America/New_York:20260120T170000
DTEND;TZID=America/New_York:20260120T170000
DTSTAMP:20260425T095015
CREATED:20260108T173423Z
LAST-MODIFIED:20260108T173423Z
UID:92138-1768928400-1768928400@www.teknovation.biz
SUMMARY:Protecting Innovation: Insurance Solutions for Life Sciences
DESCRIPTION:This session will focus on insurance considerations that life science startups should understand early—from risk management to coverage strategies as companies scale. We’re excited to kick off the 2026 Edu Series with this important and often under-discussed topic.\n\nThe event will be immediately followed by networking as part of the Beer & Biotech – please also register for that.
URL:https://www.teknovation.biz/event/protecting-innovation-insurance-solutions-for-life-sciences/
LOCATION:Epstein Becker Green – Nashville Offices\, 1222 Demonbreun St.\, 9th Floor\, Nashville\, TN
ATTACH;FMTTYPE=image/jpeg:https://www.teknovation.biz/wp-content/uploads/2023/08/Life-Science-Tennessee-LONG.jpg
END:VEVENT
END:VCALENDAR