BEGIN:VCALENDAR
VERSION:2.0
PRODID:-//Teknovation.biz - ECPv6.15.20//NONSGML v1.0//EN
CALSCALE:GREGORIAN
METHOD:PUBLISH
X-WR-CALNAME:Teknovation.biz
X-ORIGINAL-URL:https://www.teknovation.biz
X-WR-CALDESC:Events for Teknovation.biz
REFRESH-INTERVAL;VALUE=DURATION:PT1H
X-Robots-Tag:noindex
X-PUBLISHED-TTL:PT1H
BEGIN:VTIMEZONE
TZID:America/New_York
BEGIN:DAYLIGHT
TZOFFSETFROM:-0500
TZOFFSETTO:-0400
TZNAME:EDT
DTSTART:20250309T070000
END:DAYLIGHT
BEGIN:STANDARD
TZOFFSETFROM:-0400
TZOFFSETTO:-0500
TZNAME:EST
DTSTART:20251102T060000
END:STANDARD
BEGIN:DAYLIGHT
TZOFFSETFROM:-0500
TZOFFSETTO:-0400
TZNAME:EDT
DTSTART:20260308T070000
END:DAYLIGHT
BEGIN:STANDARD
TZOFFSETFROM:-0400
TZOFFSETTO:-0500
TZNAME:EST
DTSTART:20261101T060000
END:STANDARD
BEGIN:DAYLIGHT
TZOFFSETFROM:-0500
TZOFFSETTO:-0400
TZNAME:EDT
DTSTART:20270314T070000
END:DAYLIGHT
BEGIN:STANDARD
TZOFFSETFROM:-0400
TZOFFSETTO:-0500
TZNAME:EST
DTSTART:20271107T060000
END:STANDARD
END:VTIMEZONE
BEGIN:VEVENT
DTSTART;TZID=America/New_York:20260116T090000
DTEND;TZID=America/New_York:20260116T100000
DTSTAMP:20260425T095536
CREATED:20260108T210102Z
LAST-MODIFIED:20260108T210102Z
UID:92148-1768554000-1768557600@www.teknovation.biz
SUMMARY:Knoxville Chamber | How businesses can partner with ORNL to drive economic development
DESCRIPTION:Discover how your business can collaborate with Oak Ridge National Laboratory (ORNL) to accelerate innovation and economic growth in our region. Join us for an informative session exploring partnership opportunities\, research collaborations\, and technology transfer programs that help businesses of all sizes leverage ORNL’s world-class resources. \nAttendees will learn how to connect with experts\, access cutting-edge technologies\, and take advantage of programs designed to support entrepreneurship\, commercialization\, and workforce development. \nWhether you’re a startup\, small business\, or established company\, this event will show you how partnering with ORNL can fuel your next stage of growth.
URL:https://www.teknovation.biz/event/knoxville-chamber-how-businesses-can-partner-with-ornl-to-drive-economic-development/
LOCATION:Oak Ridge National Laboratory Manufacturing Demonstration Facility\, 2350 Cherahala Boulevard\, Knoxville\, TN\, 37932
ATTACH;FMTTYPE=image/jpeg:https://www.teknovation.biz/wp-content/uploads/2020/05/Knoxville-Chamber-3-LONG.jpg
END:VEVENT
END:VCALENDAR